BEGIN:VCALENDAR

VERSION:2.0

PRODID:-//hacksw/handcal//NONSGML v1.0//EN

BEGIN:VEVENT

UID:e3d688ddca456394eeac7226b40c2798

DTSTAMP:20260421T080610Z

DTSTART:20260418T110000

DTEND:20260418T120000

SUMMARY:L39149429 - 10/700 Caves Road, MARYBROOK WA 6280

LOCATION:10/700 Caves Road, MARYBROOK WA 6280

END:VEVENT

END:VCALENDAR