BEGIN:VCALENDAR

VERSION:2.0

PRODID:-//hacksw/handcal//NONSGML v1.0//EN

BEGIN:VEVENT

UID:33669599b211a473db33e3520cc2b61a

DTSTAMP:20260421T080820Z

DTSTART:20260418T123000

DTEND:20260418T130000

SUMMARY:L39036944 - 14 Metropolitan Way, DUNSBOROUGH WA 6281

LOCATION:14 Metropolitan Way, DUNSBOROUGH WA 6281

END:VEVENT

END:VCALENDAR