BEGIN:VCALENDAR

VERSION:2.0

PRODID:-//hacksw/handcal//NONSGML v1.0//EN

BEGIN:VEVENT

UID:bc12e56f04a5578db690d75b68abdf9e

DTSTAMP:20260422T212015Z

DTSTART:20260424T160000

DTEND:20260424T163000

SUMMARY:L9741791 - 2/5 Sandalford Court, DUNSBOROUGH WA 6281

LOCATION:2/5 Sandalford Court, DUNSBOROUGH WA 6281

END:VEVENT

END:VCALENDAR