BEGIN:VCALENDAR

VERSION:2.0

PRODID:-//hacksw/handcal//NONSGML v1.0//EN

BEGIN:VEVENT

UID:e124a4d13f2311a40c9e7a083d68f484

DTSTAMP:20260422T200632Z

DTSTART:20260425T110000

DTEND:20260425T114500

SUMMARY:L40134225 - 45 Maclaren Drive, YALLINGUP WA 6282

LOCATION:45 Maclaren Drive, YALLINGUP WA 6282

END:VEVENT

END:VCALENDAR