BEGIN:VCALENDAR

VERSION:2.0

PRODID:-//hacksw/handcal//NONSGML v1.0//EN

BEGIN:VEVENT

UID:5684dcd3ce18cead2526657758f6016a

DTSTAMP:20260422T195938Z

DTSTART:20260425T110000

DTEND:20260425T113000

SUMMARY:L39036944 - 14 Metropolitan Way, DUNSBOROUGH WA 6281

LOCATION:14 Metropolitan Way, DUNSBOROUGH WA 6281

END:VEVENT

END:VCALENDAR